BEGIN:VCALENDAR
VERSION:2.0
PRODID:-//STC Bluegrass - ECPv6.15.1.1//NONSGML v1.0//EN
CALSCALE:GREGORIAN
METHOD:PUBLISH
X-ORIGINAL-URL:https://stcbluegrass.com
X-WR-CALDESC:Events for STC Bluegrass
REFRESH-INTERVAL;VALUE=DURATION:PT1H
X-Robots-Tag:noindex
X-PUBLISHED-TTL:PT1H
BEGIN:VTIMEZONE
TZID:UTC
BEGIN:STANDARD
TZOFFSETFROM:+0000
TZOFFSETTO:+0000
TZNAME:UTC
DTSTART:20240101T000000
END:STANDARD
END:VTIMEZONE
BEGIN:VEVENT
DTSTART;TZID=UTC:20240406T200000
DTEND;TZID=UTC:20240406T220000
DTSTAMP:20260425T163320
CREATED:20240324T123141Z
LAST-MODIFIED:20240324T123141Z
UID:2733-1712433600-1712440800@stcbluegrass.com
SUMMARY:Barn of Harpers Ferry
DESCRIPTION:
URL:https://stcbluegrass.com/event/barn-of-harpers-ferry/
LOCATION:Barn of Harpers ferry\, 062 W Washington Street\, Harpers Ferry\, WV\, 25425\, United States
END:VEVENT
END:VCALENDAR