BEGIN:VCALENDAR
VERSION:2.0
PRODID:-//STC Bluegrass - ECPv6.15.1.1//NONSGML v1.0//EN
CALSCALE:GREGORIAN
METHOD:PUBLISH
X-ORIGINAL-URL:https://stcbluegrass.com
X-WR-CALDESC:Events for STC Bluegrass
REFRESH-INTERVAL;VALUE=DURATION:PT1H
X-Robots-Tag:noindex
X-PUBLISHED-TTL:PT1H
BEGIN:VTIMEZONE
TZID:UTC
BEGIN:STANDARD
TZOFFSETFROM:+0000
TZOFFSETTO:+0000
TZNAME:UTC
DTSTART:20240101T000000
END:STANDARD
END:VTIMEZONE
BEGIN:VEVENT
DTSTART;TZID=UTC:20240511T123000
DTEND;TZID=UTC:20240511T170000
DTSTAMP:20260425T145220
CREATED:20240504T170318Z
LAST-MODIFIED:20240504T170318Z
UID:2752-1715430600-1715446800@stcbluegrass.com
SUMMARY:Appalachian Bluegrass Association Shindig
DESCRIPTION:
URL:https://stcbluegrass.com/event/appalachian-bluegrass-association-shindig/
LOCATION:Mountain View Park\, 206 E Mountain View Rd.\, Wind Gap\, PA\, United States
END:VEVENT
END:VCALENDAR