BEGIN:VCALENDAR
VERSION:2.0
PRODID:-//STC Bluegrass - ECPv6.15.1.1//NONSGML v1.0//EN
CALSCALE:GREGORIAN
METHOD:PUBLISH
X-WR-CALNAME:STC Bluegrass
X-ORIGINAL-URL:https://stcbluegrass.com
X-WR-CALDESC:Events for STC Bluegrass
REFRESH-INTERVAL;VALUE=DURATION:PT1H
X-Robots-Tag:noindex
X-PUBLISHED-TTL:PT1H
BEGIN:VTIMEZONE
TZID:UTC
BEGIN:STANDARD
TZOFFSETFROM:+0000
TZOFFSETTO:+0000
TZNAME:UTC
DTSTART:20240101T000000
END:STANDARD
END:VTIMEZONE
BEGIN:VEVENT
DTSTART;TZID=UTC:20240531T183000
DTEND;TZID=UTC:20240531T220000
DTSTAMP:20260425T125310
CREATED:20240504T170423Z
LAST-MODIFIED:20240504T170423Z
UID:2755-1717180200-1717192800@stcbluegrass.com
SUMMARY:1812 Brewery
DESCRIPTION:
URL:https://stcbluegrass.com/event/1812-brewery-3/
LOCATION:1812 Brewery\, 13006 Mason Rd NE\, Cumberland\, MD\, United States
END:VEVENT
END:VCALENDAR