BEGIN:VCALENDAR
VERSION:2.0
PRODID:-//STC Bluegrass - ECPv6.15.1.1//NONSGML v1.0//EN
CALSCALE:GREGORIAN
METHOD:PUBLISH
X-ORIGINAL-URL:https://stcbluegrass.com
X-WR-CALDESC:Events for STC Bluegrass
REFRESH-INTERVAL;VALUE=DURATION:PT1H
X-Robots-Tag:noindex
X-PUBLISHED-TTL:PT1H
BEGIN:VTIMEZONE
TZID:UTC
BEGIN:STANDARD
TZOFFSETFROM:+0000
TZOFFSETTO:+0000
TZNAME:UTC
DTSTART:20240101T000000
END:STANDARD
END:VTIMEZONE
BEGIN:VEVENT
DTSTART;TZID=UTC:20240721T130000
DTEND;TZID=UTC:20240721T160000
DTSTAMP:20260425T111255
CREATED:20240507T213346Z
LAST-MODIFIED:20240507T213346Z
UID:2782-1721566800-1721577600@stcbluegrass.com
SUMMARY:Mt. Defiance Cidery
DESCRIPTION:
URL:https://stcbluegrass.com/event/mt-defiance-cidery/
LOCATION:Mount Defiance Cidery\, 495 E. Washington Street\, Middleburg\, VA\, 20117\, United States
END:VEVENT
END:VCALENDAR