BEGIN:VCALENDAR
VERSION:2.0
PRODID:-//STC Bluegrass - ECPv6.15.1.1//NONSGML v1.0//EN
CALSCALE:GREGORIAN
METHOD:PUBLISH
X-WR-CALNAME:STC Bluegrass
X-ORIGINAL-URL:https://stcbluegrass.com
X-WR-CALDESC:Events for STC Bluegrass
REFRESH-INTERVAL;VALUE=DURATION:PT1H
X-Robots-Tag:noindex
X-PUBLISHED-TTL:PT1H
BEGIN:VTIMEZONE
TZID:UTC
BEGIN:STANDARD
TZOFFSETFROM:+0000
TZOFFSETTO:+0000
TZNAME:UTC
DTSTART:20240101T000000
END:STANDARD
END:VTIMEZONE
BEGIN:VEVENT
DTSTART;TZID=UTC:20241102T200000
DTEND;TZID=UTC:20241102T230000
DTSTAMP:20260425T031439
CREATED:20241008T213704Z
LAST-MODIFIED:20241008T213704Z
UID:2830-1730577600-1730588400@stcbluegrass.com
SUMMARY:Monk's BBQ
DESCRIPTION:
URL:https://stcbluegrass.com/event/monks-bbq-2/
LOCATION:Monk’s BBQ\, 251 N 21st St\, Purcellville\, VA\, 20132\, United States
END:VEVENT
END:VCALENDAR