BEGIN:VCALENDAR
VERSION:2.0
PRODID:-//STC Bluegrass - ECPv6.15.1.1//NONSGML v1.0//EN
CALSCALE:GREGORIAN
METHOD:PUBLISH
X-ORIGINAL-URL:https://stcbluegrass.com
X-WR-CALDESC:Events for STC Bluegrass
REFRESH-INTERVAL;VALUE=DURATION:PT1H
X-Robots-Tag:noindex
X-PUBLISHED-TTL:PT1H
BEGIN:VTIMEZONE
TZID:UTC
BEGIN:STANDARD
TZOFFSETFROM:+0000
TZOFFSETTO:+0000
TZNAME:UTC
DTSTART:20250101T000000
END:STANDARD
END:VTIMEZONE
BEGIN:VEVENT
DTSTART;TZID=UTC:20250309T133000
DTEND;TZID=UTC:20250309T153000
DTSTAMP:20260424T193114
CREATED:20250116T223731Z
LAST-MODIFIED:20250116T223731Z
UID:2869-1741527000-1741534200@stcbluegrass.com
SUMMARY:Wehrly's Auction House
DESCRIPTION:
URL:https://stcbluegrass.com/event/wehrlys-auction-house/
LOCATION:Wehrly’s Auction House\, 4067 Snyder Rd.\, Glen Rock\, PA\, 17327\, United States
END:VEVENT
END:VCALENDAR