BEGIN:VCALENDAR
VERSION:2.0
PRODID:-//STC Bluegrass - ECPv6.15.1.1//NONSGML v1.0//EN
CALSCALE:GREGORIAN
METHOD:PUBLISH
X-ORIGINAL-URL:https://stcbluegrass.com
X-WR-CALDESC:Events for STC Bluegrass
REFRESH-INTERVAL;VALUE=DURATION:PT1H
X-Robots-Tag:noindex
X-PUBLISHED-TTL:PT1H
BEGIN:VTIMEZONE
TZID:UTC
BEGIN:STANDARD
TZOFFSETFROM:+0000
TZOFFSETTO:+0000
TZNAME:UTC
DTSTART:20250101T000000
END:STANDARD
END:VTIMEZONE
BEGIN:VEVENT
DTSTART;TZID=UTC:20250614T000000
DTEND;TZID=UTC:20250614T235959
DTSTAMP:20260424T135705
CREATED:20250423T125732Z
LAST-MODIFIED:20250423T125823Z
UID:2899-1749859200-1749945599@stcbluegrass.com
SUMMARY:Appalachian Trail Outdoor Festival
DESCRIPTION:
URL:https://stcbluegrass.com/event/appalachian-trail-outdoor-festival/
LOCATION:Red Run Park\, 12143 Buchanan Trail East\, Waynesboro\, PA\, United States
END:VEVENT
BEGIN:VEVENT
DTSTART;TZID=UTC:20250614T160000
DTEND;TZID=UTC:20250614T200000
DTSTAMP:20260424T135705
CREATED:20250423T130025Z
LAST-MODIFIED:20250423T130025Z
UID:2901-1749916800-1749931200@stcbluegrass.com
SUMMARY:Milkhouse Brewery
DESCRIPTION:
URL:https://stcbluegrass.com/event/milkhouse-brewery-2/
LOCATION:Milkhouse Brewing\, 8253 Dollyhyde Rd\, Mt. Airy\, MD\, 21771\, United States
END:VEVENT
END:VCALENDAR