BEGIN:VCALENDAR
VERSION:2.0
PRODID:-//STC Bluegrass - ECPv6.15.1.1//NONSGML v1.0//EN
CALSCALE:GREGORIAN
METHOD:PUBLISH
X-WR-CALNAME:STC Bluegrass
X-ORIGINAL-URL:https://stcbluegrass.com
X-WR-CALDESC:Events for STC Bluegrass
REFRESH-INTERVAL;VALUE=DURATION:PT1H
X-Robots-Tag:noindex
X-PUBLISHED-TTL:PT1H
BEGIN:VTIMEZONE
TZID:UTC
BEGIN:STANDARD
TZOFFSETFROM:+0000
TZOFFSETTO:+0000
TZNAME:UTC
DTSTART:20250101T000000
END:STANDARD
END:VTIMEZONE
BEGIN:VEVENT
DTSTART;TZID=UTC:20250802T000000
DTEND;TZID=UTC:20250802T235959
DTSTAMP:20260424T101859
CREATED:20250423T131808Z
LAST-MODIFIED:20250423T131808Z
UID:2925-1754092800-1754179199@stcbluegrass.com
SUMMARY:Appalachian Fiddle Bluegrass Association Festival
DESCRIPTION:
URL:https://stcbluegrass.com/event/appalachian-fiddle-bluegrass-association-festival/
LOCATION:Mountain View Park\, 206 E Mountain View Rd.\, Wind Gap\, PA\, United States
END:VEVENT
END:VCALENDAR