BEGIN:VCALENDAR
VERSION:2.0
PRODID:-//STC Bluegrass - ECPv6.15.1.1//NONSGML v1.0//EN
CALSCALE:GREGORIAN
METHOD:PUBLISH
X-ORIGINAL-URL:https://stcbluegrass.com
X-WR-CALDESC:Events for STC Bluegrass
REFRESH-INTERVAL;VALUE=DURATION:PT1H
X-Robots-Tag:noindex
X-PUBLISHED-TTL:PT1H
BEGIN:VTIMEZONE
TZID:UTC
BEGIN:STANDARD
TZOFFSETFROM:+0000
TZOFFSETTO:+0000
TZNAME:UTC
DTSTART:20260101T000000
END:STANDARD
END:VTIMEZONE
BEGIN:VEVENT
DTSTART;TZID=UTC:20260411T110000
DTEND;TZID=UTC:20260411T130000
DTSTAMP:20260423T215754
CREATED:20260116T205503Z
LAST-MODIFIED:20260116T205503Z
UID:2973-1775905200-1775912400@stcbluegrass.com
SUMMARY:Marshy Point Spring Festival
DESCRIPTION:
URL:https://stcbluegrass.com/event/marshy-point-spring-festival/
END:VEVENT
BEGIN:VEVENT
DTSTART;TZID=UTC:20260411T190000
DTEND;TZID=UTC:20260411T220000
DTSTAMP:20260423T215754
CREATED:20251204T151314Z
LAST-MODIFIED:20251204T151314Z
UID:2954-1775934000-1775944800@stcbluegrass.com
SUMMARY:Barn of Harper's Ferry
DESCRIPTION:
URL:https://stcbluegrass.com/event/barn-of-harpers-ferry-3/
END:VEVENT
BEGIN:VEVENT
DTSTART;TZID=UTC:20260509T140000
DTEND;TZID=UTC:20260509T160000
DTSTAMP:20260423T215754
CREATED:20260116T210105Z
LAST-MODIFIED:20260116T210105Z
UID:2977-1778335200-1778342400@stcbluegrass.com
SUMMARY:Orr's Farm Market
DESCRIPTION:
URL:https://stcbluegrass.com/event/orrs-farm-market/
END:VEVENT
BEGIN:VEVENT
DTSTART;TZID=UTC:20260510T140000
DTEND;TZID=UTC:20260510T170000
DTSTAMP:20260423T215754
CREATED:20260116T210207Z
LAST-MODIFIED:20260116T210207Z
UID:2979-1778421600-1778432400@stcbluegrass.com
SUMMARY:Waredaca
DESCRIPTION:
URL:https://stcbluegrass.com/event/waredaca/
LOCATION:Waredaca Brewery\, Laytonsville\, MD\, United States
END:VEVENT
BEGIN:VEVENT
DTSTART;TZID=UTC:20260516T080000
DTEND;TZID=UTC:20260516T170000
DTSTAMP:20260423T215754
CREATED:20260116T210253Z
LAST-MODIFIED:20260116T210253Z
UID:2981-1778918400-1778950800@stcbluegrass.com
SUMMARY:Urbana Lodge
DESCRIPTION:
URL:https://stcbluegrass.com/event/urbana-lodge/
END:VEVENT
BEGIN:VEVENT
DTSTART;TZID=UTC:20260531T130000
DTEND;TZID=UTC:20260531T160000
DTSTAMP:20260423T215754
CREATED:20260224T202136Z
LAST-MODIFIED:20260224T202136Z
UID:3005-1780232400-1780243200@stcbluegrass.com
SUMMARY:Dirt Farm Brewing
DESCRIPTION:
URL:https://stcbluegrass.com/event/dirt-farm-brewing-3/
LOCATION:Dirt Farm Brewing\, 18701 Foggy Bottom Rd\, Bluemont\, VA\, United States
END:VEVENT
BEGIN:VEVENT
DTSTART;TZID=UTC:20260607T150000
DTEND;TZID=UTC:20260607T180000
DTSTAMP:20260423T215754
CREATED:20251201T154649Z
LAST-MODIFIED:20251201T155101Z
UID:2947-1780844400-1780855200@stcbluegrass.com
SUMMARY:Potomac Ridge Brewery
DESCRIPTION:
URL:https://stcbluegrass.com/event/potomac-ridge-brewery/
END:VEVENT
BEGIN:VEVENT
DTSTART;TZID=UTC:20260613T130000
DTEND;TZID=UTC:20260613T160000
DTSTAMP:20260423T215754
CREATED:20260116T210345Z
LAST-MODIFIED:20260116T210345Z
UID:2983-1781355600-1781366400@stcbluegrass.com
SUMMARY:Appalachian Trail Outdoor Festival
DESCRIPTION:
URL:https://stcbluegrass.com/event/appalachian-trail-outdoor-festival-2/
END:VEVENT
BEGIN:VEVENT
DTSTART;TZID=UTC:20260621T140000
DTEND;TZID=UTC:20260621T180000
DTSTAMP:20260423T215754
CREATED:20260401T132024Z
LAST-MODIFIED:20260401T132024Z
UID:3009-1782050400-1782064800@stcbluegrass.com
SUMMARY:Milkhouse Brewing
DESCRIPTION:
URL:https://stcbluegrass.com/event/milkhouse-brewing/
LOCATION:Milkhouse Brewing\, 8253 Dollyhyde Rd\, Mt. Airy\, MD\, 21771\, United States
END:VEVENT
BEGIN:VEVENT
DTSTART;TZID=UTC:20260711T180000
DTEND;TZID=UTC:20260711T210000
DTSTAMP:20260423T215754
CREATED:20260401T132150Z
LAST-MODIFIED:20260401T132150Z
UID:3011-1783792800-1783803600@stcbluegrass.com
SUMMARY:1812 Brewery
DESCRIPTION:
URL:https://stcbluegrass.com/event/1812-brewery-4/
LOCATION:1812 Brewery\, 13006 Mason Rd NE\, Cumberland\, MD\, United States
END:VEVENT
BEGIN:VEVENT
DTSTART;TZID=UTC:20260822T140000
DTEND;TZID=UTC:20260822T153000
DTSTAMP:20260423T215754
CREATED:20260224T200906Z
LAST-MODIFIED:20260224T200906Z
UID:2994-1787407200-1787412600@stcbluegrass.com
SUMMARY:Local Homestead Bluegrass Festival
DESCRIPTION:
URL:https://stcbluegrass.com/event/local-homestead-bluegrass-festival/
LOCATION:Local Homestead Products\, 2425 New Marston Road\, New Windsor\, MD\, 21776\, United States
END:VEVENT
BEGIN:VEVENT
DTSTART;TZID=UTC:20260903T190000
DTEND;TZID=UTC:20260903T210000
DTSTAMP:20260423T215754
CREATED:20260224T201109Z
LAST-MODIFIED:20260224T201109Z
UID:2997-1788462000-1788469200@stcbluegrass.com
SUMMARY:Tenth Ward
DESCRIPTION:
URL:https://stcbluegrass.com/event/tenth-ward/
END:VEVENT
BEGIN:VEVENT
DTSTART;TZID=UTC:20260919T150000
DTEND;TZID=UTC:20260919T160000
DTSTAMP:20260423T215754
CREATED:20251204T151946Z
LAST-MODIFIED:20251204T151946Z
UID:2963-1789830000-1789833600@stcbluegrass.com
SUMMARY:Two Tops Steam Festival
DESCRIPTION:
URL:https://stcbluegrass.com/event/two-tops-steam-festival/
END:VEVENT
BEGIN:VEVENT
DTSTART;TZID=UTC:20260920T140000
DTEND;TZID=UTC:20260920T170000
DTSTAMP:20260423T215754
CREATED:20260224T201243Z
LAST-MODIFIED:20260224T201243Z
UID:2999-1789912800-1789923600@stcbluegrass.com
SUMMARY:Doc Waters Cidery
DESCRIPTION:
URL:https://stcbluegrass.com/event/doc-waters-cidery-3/
LOCATION:Doc Waters Cidery\, 22529 Wildcat Road\, Germantown\, MD\, 20876\, United States
END:VEVENT
BEGIN:VEVENT
DTSTART;TZID=UTC:20261003T140000
DTEND;TZID=UTC:20261003T170000
DTSTAMP:20260423T215754
CREATED:20251204T152204Z
LAST-MODIFIED:20251204T152204Z
UID:2969-1791036000-1791046800@stcbluegrass.com
SUMMARY:Private Event
DESCRIPTION:
URL:https://stcbluegrass.com/event/private-event/
END:VEVENT
BEGIN:VEVENT
DTSTART;TZID=UTC:20261004T140000
DTEND;TZID=UTC:20261004T170000
DTSTAMP:20260423T215754
CREATED:20260224T201727Z
LAST-MODIFIED:20260224T201727Z
UID:3001-1791122400-1791133200@stcbluegrass.com
SUMMARY:Brunswick Railroad Days
DESCRIPTION:
URL:https://stcbluegrass.com/event/brunswick-railroad-days/
END:VEVENT
BEGIN:VEVENT
DTSTART;TZID=UTC:20261010T130000
DTEND;TZID=UTC:20261010T160000
DTSTAMP:20260423T215754
CREATED:20260116T210439Z
LAST-MODIFIED:20260116T210439Z
UID:2985-1791637200-1791648000@stcbluegrass.com
SUMMARY:Orr's Farm Market
DESCRIPTION:
URL:https://stcbluegrass.com/event/orrs-farm-market-2/
END:VEVENT
BEGIN:VEVENT
DTSTART;TZID=UTC:20261017T170000
DTEND;TZID=UTC:20261017T200000
DTSTAMP:20260423T215754
CREATED:20260116T210544Z
LAST-MODIFIED:20260116T210544Z
UID:2987-1792256400-1792267200@stcbluegrass.com
SUMMARY:Magnolia Meadows Farm
DESCRIPTION:
URL:https://stcbluegrass.com/event/magnolia-meadows-farm-2/
END:VEVENT
BEGIN:VEVENT
DTSTART;TZID=UTC:20261105T190000
DTEND;TZID=UTC:20261105T210000
DTSTAMP:20260423T215754
CREATED:20260224T201844Z
LAST-MODIFIED:20260224T201844Z
UID:3003-1793905200-1793912400@stcbluegrass.com
SUMMARY:Tenth Ward
DESCRIPTION:
URL:https://stcbluegrass.com/event/tenth-ward-2/
END:VEVENT
BEGIN:VEVENT
DTSTART;TZID=UTC:20261107T190000
DTEND;TZID=UTC:20261107T220000
DTSTAMP:20260423T215754
CREATED:20251204T152047Z
LAST-MODIFIED:20251204T152047Z
UID:2965-1794078000-1794088800@stcbluegrass.com
SUMMARY:Barn of Harper's Ferry
DESCRIPTION:
URL:https://stcbluegrass.com/event/barn-of-harpers-ferry-4/
END:VEVENT
BEGIN:VEVENT
DTSTART;TZID=UTC:20261211T190000
DTEND;TZID=UTC:20261211T210000
DTSTAMP:20260423T215754
CREATED:20260116T210804Z
LAST-MODIFIED:20260116T210804Z
UID:2991-1797015600-1797022800@stcbluegrass.com
SUMMARY:Morgan Run Coffeehouse
DESCRIPTION:
URL:https://stcbluegrass.com/event/morgan-run-coffeehouse/
LOCATION:Morgan Run Coffeehouse\, 6750 Woodbine Rd.\, Woodbine\, MD\, 21797\, United States
END:VEVENT
END:VCALENDAR