BEGIN:VCALENDAR
VERSION:2.0
PRODID:-//STC Bluegrass - ECPv6.15.1.1//NONSGML v1.0//EN
CALSCALE:GREGORIAN
METHOD:PUBLISH
X-WR-CALNAME:STC Bluegrass
X-ORIGINAL-URL:https://stcbluegrass.com
X-WR-CALDESC:Events for STC Bluegrass
REFRESH-INTERVAL;VALUE=DURATION:PT1H
X-Robots-Tag:noindex
X-PUBLISHED-TTL:PT1H

BEGIN:VEVENT
DTSTART;TZID=UTC:20231008T120000
DTEND;TZID=UTC:20231008T150000
DTSTAMP:20260425T112543
CREATED:20230913T164314Z
LAST-MODIFIED:20230913T164314Z
UID:2575-1696766400-1696777200@stcbluegrass.com
SUMMARY:Antietam Pumpkin Patch
DESCRIPTION:
URL:https://stcbluegrass.com/event/antietam-pumpkin-patch/
LOCATION:MD
END:VEVENT
BEGIN:VEVENT
DTSTART;TZID=UTC:20231007T170000
DTEND;TZID=UTC:20231007T200000
DTSTAMP:20260425T112543
CREATED:20230913T164225Z
LAST-MODIFIED:20230913T164225Z
UID:2572-1696698000-1696708800@stcbluegrass.com
SUMMARY:Lost Barrel Brewing
DESCRIPTION:
URL:https://stcbluegrass.com/event/lost-barrel-brewing/
LOCATION:Lost Barrel Brewing\, Middleburg\, VA
END:VEVENT
BEGIN:VEVENT
DTSTART;TZID=UTC:20230930T130000
DTEND;TZID=UTC:20230930T170000
DTSTAMP:20260425T112543
CREATED:20230913T164053Z
LAST-MODIFIED:20230913T164053Z
UID:2570-1696078800-1696093200@stcbluegrass.com
SUMMARY:New Cumberland Apple Festival
DESCRIPTION:
URL:https://stcbluegrass.com/event/new-cumberland-apple-festival/
LOCATION:MD
END:VEVENT
BEGIN:VEVENT
DTSTART;TZID=UTC:20260425T112543
DTEND;TZID=UTC:20260425T112543
DTSTAMP:20260425T112543
CREATED:20260401T132324Z
LAST-MODIFIED:20260401T132324Z
UID:3013-0-0@stcbluegrass.com
SUMMARY:Private Event
DESCRIPTION:
URL:https://stcbluegrass.com/event/private-event-2/
LOCATION:MD
END:VEVENT
END:VCALENDAR