BEGIN:VCALENDAR
VERSION:2.0
PRODID:-//STC Bluegrass - ECPv6.15.1.1//NONSGML v1.0//EN
CALSCALE:GREGORIAN
METHOD:PUBLISH
X-WR-CALNAME:STC Bluegrass
X-ORIGINAL-URL:https://stcbluegrass.com
X-WR-CALDESC:Events for STC Bluegrass
REFRESH-INTERVAL;VALUE=DURATION:PT1H
X-Robots-Tag:noindex
X-PUBLISHED-TTL:PT1H
BEGIN:VTIMEZONE
TZID:UTC
BEGIN:STANDARD
TZOFFSETFROM:+0000
TZOFFSETTO:+0000
TZNAME:UTC
DTSTART:20240101T000000
END:STANDARD
END:VTIMEZONE
BEGIN:VEVENT
DTSTART;TZID=UTC:20250614T160000
DTEND;TZID=UTC:20250614T200000
DTSTAMP:20260423T214725
CREATED:20250423T130025Z
LAST-MODIFIED:20250423T130025Z
UID:2901-1749916800-1749931200@stcbluegrass.com
SUMMARY:Milkhouse Brewery
DESCRIPTION:
URL:https://stcbluegrass.com/event/milkhouse-brewery-2/
LOCATION:Milkhouse Brewing\, 8253 Dollyhyde Rd\, Mt. Airy\, MD\, 21771\, United States
END:VEVENT
BEGIN:VEVENT
DTSTART;TZID=UTC:20250614T000000
DTEND;TZID=UTC:20250614T235959
DTSTAMP:20260423T214725
CREATED:20250423T125732Z
LAST-MODIFIED:20250423T125823Z
UID:2899-1749859200-1749945599@stcbluegrass.com
SUMMARY:Appalachian Trail Outdoor Festival
DESCRIPTION:
URL:https://stcbluegrass.com/event/appalachian-trail-outdoor-festival/
LOCATION:Red Run Park\, 12143 Buchanan Trail East\, Waynesboro\, PA\, United States
END:VEVENT
BEGIN:VEVENT
DTSTART;TZID=UTC:20250531T160000
DTEND;TZID=UTC:20250531T200000
DTSTAMP:20260423T214725
CREATED:20250423T125617Z
LAST-MODIFIED:20250423T125617Z
UID:2897-1748707200-1748721600@stcbluegrass.com
SUMMARY:Lost Barrel
DESCRIPTION:
URL:https://stcbluegrass.com/event/lost-barrel/
LOCATION:Lost Barrel Brewing\, Middleburg\, VA
END:VEVENT
BEGIN:VEVENT
DTSTART;TZID=UTC:20250531T100000
DTEND;TZID=UTC:20250531T130000
DTSTAMP:20260423T214725
CREATED:20250423T125539Z
LAST-MODIFIED:20250423T125539Z
UID:2895-1748685600-1748696400@stcbluegrass.com
SUMMARY:Brunswick Spring Fest
DESCRIPTION:
URL:https://stcbluegrass.com/event/brunswick-spring-fest-2/
LOCATION:Brunswick\, MD\, United States
END:VEVENT
BEGIN:VEVENT
DTSTART;TZID=UTC:20250517T170000
DTEND;TZID=UTC:20250517T200000
DTSTAMP:20260423T214725
CREATED:20250423T125427Z
LAST-MODIFIED:20250423T125427Z
UID:2892-1747501200-1747512000@stcbluegrass.com
SUMMARY:4Js Farm & Brewery
DESCRIPTION:
URL:https://stcbluegrass.com/event/4js-farm-brewery/
LOCATION:4Js Farm & Brewery\, 7595 Keith Rd.\, Warrenton\, VA\, 20186\, United States
END:VEVENT
BEGIN:VEVENT
DTSTART;TZID=UTC:20250516T200000
DTEND;TZID=UTC:20250516T230000
DTSTAMP:20260423T214725
CREATED:20250423T125149Z
LAST-MODIFIED:20250423T125149Z
UID:2890-1747425600-1747436400@stcbluegrass.com
SUMMARY:The Office Bar and Grill
DESCRIPTION:
URL:https://stcbluegrass.com/event/the-office-bar-and-grill-2/
LOCATION:The Office Bar and Grill\, 2801 Mountain Rd\, Pasadena\, MD\, 21122\, United States
END:VEVENT
BEGIN:VEVENT
DTSTART;TZID=UTC:20250425T200000
DTEND;TZID=UTC:20250425T230000
DTSTAMP:20260423T214725
CREATED:20250423T125037Z
LAST-MODIFIED:20250423T125037Z
UID:2888-1745611200-1745622000@stcbluegrass.com
SUMMARY:Monk's BBQ
DESCRIPTION:
URL:https://stcbluegrass.com/event/monks-bbq-3/
LOCATION:Monk’s BBQ\, 251 N 21st St\, Purcellville\, VA\, 20132\, United States
END:VEVENT
BEGIN:VEVENT
DTSTART;TZID=UTC:20250406T170000
DTEND;TZID=UTC:20250406T200000
DTSTAMP:20260423T214725
CREATED:20250116T223931Z
LAST-MODIFIED:20250120T014336Z
UID:2873-1743958800-1743969600@stcbluegrass.com
SUMMARY:Micky's Joint
DESCRIPTION:
URL:https://stcbluegrass.com/event/mickys-joint-2/
LOCATION:Micky’s Joint\, 5402 Harford Rd.\, Baltimore\, MD\, United States
END:VEVENT
BEGIN:VEVENT
DTSTART;TZID=UTC:20250315T200000
DTEND;TZID=UTC:20250315T220000
DTSTAMP:20260423T214725
CREATED:20250116T223815Z
LAST-MODIFIED:20250116T223815Z
UID:2871-1742068800-1742076000@stcbluegrass.com
SUMMARY:Barn at Harpers Ferry
DESCRIPTION:
URL:https://stcbluegrass.com/event/barn-at-harpers-ferry/
LOCATION:Barn of Harpers ferry\, 062 W Washington Street\, Harpers Ferry\, WV\, 25425\, United States
END:VEVENT
BEGIN:VEVENT
DTSTART;TZID=UTC:20250314T190000
DTEND;TZID=UTC:20250314T220000
DTSTAMP:20260423T214725
CREATED:20250217T153015Z
LAST-MODIFIED:20250217T153015Z
UID:2879-1741978800-1741989600@stcbluegrass.com
SUMMARY:Music in the Gap Winter Encore
DESCRIPTION:
URL:https://stcbluegrass.com/event/music-in-the-gap-winter-encore/
LOCATION:Hillsboro Old Stone School\, 37098 Charles Town Pike\, Hillsboro\, VA\, 20132\, United States
END:VEVENT
BEGIN:VEVENT
DTSTART;TZID=UTC:20250309T133000
DTEND;TZID=UTC:20250309T153000
DTSTAMP:20260423T214725
CREATED:20250116T223731Z
LAST-MODIFIED:20250116T223731Z
UID:2869-1741527000-1741534200@stcbluegrass.com
SUMMARY:Wehrly's Auction House
DESCRIPTION:
URL:https://stcbluegrass.com/event/wehrlys-auction-house/
LOCATION:Wehrly’s Auction House\, 4067 Snyder Rd.\, Glen Rock\, PA\, 17327\, United States
END:VEVENT
BEGIN:VEVENT
DTSTART;TZID=UTC:20250302T190000
DTEND;TZID=UTC:20250302T230000
DTSTAMP:20260423T214725
CREATED:20250217T152533Z
LAST-MODIFIED:20250217T152533Z
UID:2876-1740942000-1740956400@stcbluegrass.com
SUMMARY:Songbyrd Music House
DESCRIPTION:With Dave Zelonka
URL:https://stcbluegrass.com/event/songbyrd-music-house/
LOCATION:Songbyrd Music House\, 540 Penn St NE20002\, USA\, Washington\, DC\, 20002\, United States
END:VEVENT
BEGIN:VEVENT
DTSTART;TZID=UTC:20250301T200000
DTEND;TZID=UTC:20250301T230000
DTSTAMP:20260423T214725
CREATED:20250217T153317Z
LAST-MODIFIED:20250217T153317Z
UID:2883-1740859200-1740870000@stcbluegrass.com
SUMMARY:The Office Bar and Grill
DESCRIPTION:
URL:https://stcbluegrass.com/event/the-office-bar-and-grill/
LOCATION:The Office Bar and Grill\, 2801 Mountain Rd\, Pasadena\, MD\, 21122\, United States
END:VEVENT
BEGIN:VEVENT
DTSTART;TZID=UTC:20250221T190000
DTEND;TZID=UTC:20250221T210000
DTSTAMP:20260423T214725
CREATED:20250116T223505Z
LAST-MODIFIED:20250116T223505Z
UID:2864-1740164400-1740171600@stcbluegrass.com
SUMMARY:Morgan's Run Coffeehouse
DESCRIPTION:
URL:https://stcbluegrass.com/event/morgans-run-coffeehouse/
LOCATION:Morgan Run Coffeehouse\, 6750 Woodbine Rd.\, Woodbine\, MD\, 21797\, United States
END:VEVENT
BEGIN:VEVENT
DTSTART;TZID=UTC:20250208T200000
DTEND;TZID=UTC:20250208T230000
DTSTAMP:20260423T214725
CREATED:20250116T223414Z
LAST-MODIFIED:20250116T223414Z
UID:2862-1739044800-1739055600@stcbluegrass.com
SUMMARY:Monk's Barbecue
DESCRIPTION:
URL:https://stcbluegrass.com/event/monks-barbecue-2/
LOCATION:Monk’s BBQ\, 251 N 21st St\, Purcellville\, VA\, 20132\, United States
END:VEVENT
BEGIN:VEVENT
DTSTART;TZID=UTC:20250118T190000
DTEND;TZID=UTC:20250118T220000
DTSTAMP:20260423T214725
CREATED:20250116T223117Z
LAST-MODIFIED:20250116T223117Z
UID:2860-1737226800-1737237600@stcbluegrass.com
SUMMARY:Gearhouse Brewing
DESCRIPTION:
URL:https://stcbluegrass.com/event/gearhouse-brewing-4/
LOCATION:Gearhouse Brewing\, 253 Grant St.\, Chambersburg\, PA\, 17201\, United States
END:VEVENT
BEGIN:VEVENT
DTSTART;TZID=UTC:20241221T160000
DTEND;TZID=UTC:20241221T190000
DTSTAMP:20260423T214725
CREATED:20241129T181248Z
LAST-MODIFIED:20241129T181300Z
UID:2846-1734796800-1734807600@stcbluegrass.com
SUMMARY:Lost Barrel
DESCRIPTION:
URL:https://stcbluegrass.com/event/lost-barrell/
LOCATION:Lost Barrel Brewing\, Middleburg\, VA
END:VEVENT
BEGIN:VEVENT
DTSTART;TZID=UTC:20241213T200000
DTEND;TZID=UTC:20241213T230000
DTSTAMP:20260423T214725
CREATED:20241129T181158Z
LAST-MODIFIED:20241129T181158Z
UID:2844-1734120000-1734130800@stcbluegrass.com
SUMMARY:Monk's Barbecue
DESCRIPTION:
URL:https://stcbluegrass.com/event/monks-barbecue/
LOCATION:Monk’s BBQ\, 251 N 21st St\, Purcellville\, VA\, 20132\, United States
END:VEVENT
BEGIN:VEVENT
DTSTART;TZID=UTC:20241208T133000
DTEND;TZID=UTC:20241208T153000
DTSTAMP:20260423T214725
CREATED:20241129T181106Z
LAST-MODIFIED:20241129T181106Z
UID:2841-1733664600-1733671800@stcbluegrass.com
SUMMARY:St. Rita's Holiday Market
DESCRIPTION:
URL:https://stcbluegrass.com/event/st-ritas-holiday-market/
LOCATION:St. Rita’s Catholic Church\, 3815 Russell Rd.\, Alexandria\, VA\, 22305\, United States
END:VEVENT
BEGIN:VEVENT
DTSTART;TZID=UTC:20241130T170000
DTEND;TZID=UTC:20241130T200000
DTSTAMP:20260423T214725
CREATED:20241008T214108Z
LAST-MODIFIED:20241008T214108Z
UID:2839-1732986000-1732996800@stcbluegrass.com
SUMMARY:Lost Barrel Brewing
DESCRIPTION:
URL:https://stcbluegrass.com/event/lost-barrel-brewing-8/
LOCATION:Lost Barrel Brewing\, Middleburg\, VA
END:VEVENT
BEGIN:VEVENT
DTSTART;TZID=UTC:20241123T193000
DTEND;TZID=UTC:20241123T223000
DTSTAMP:20260423T214725
CREATED:20241008T214026Z
LAST-MODIFIED:20241008T214026Z
UID:2836-1732390200-1732401000@stcbluegrass.com
SUMMARY:Micky's Joint
DESCRIPTION:
URL:https://stcbluegrass.com/event/mickys-joint/
LOCATION:Micky’s Joint\, 5402 Harford Rd.\, Baltimore\, MD\, United States
END:VEVENT
BEGIN:VEVENT
DTSTART;TZID=UTC:20241116T170000
DTEND;TZID=UTC:20241116T200000
DTSTAMP:20260423T214725
CREATED:20241008T213853Z
LAST-MODIFIED:20241008T213853Z
UID:2834-1731776400-1731787200@stcbluegrass.com
SUMMARY:Cedar Run Brewing
DESCRIPTION:
URL:https://stcbluegrass.com/event/cedar-run-brewing-4/
LOCATION:Cedar Run Brewing\, 12801 Hazelwood Drive\, Nokesville\, VA\, 20181\, United States
END:VEVENT
BEGIN:VEVENT
DTSTART;TZID=UTC:20241109T183000
DTEND;TZID=UTC:20241109T213000
DTSTAMP:20260423T214725
CREATED:20241008T213751Z
LAST-MODIFIED:20241008T213751Z
UID:2832-1731177000-1731187800@stcbluegrass.com
SUMMARY:Black Locust Brewing
DESCRIPTION:
URL:https://stcbluegrass.com/event/black-locust-brewing/
LOCATION:Black Locust Farm Brewery\, 21305 Heathcote Rd\,\, Freeland\, MD\, 21053\, United States
END:VEVENT
BEGIN:VEVENT
DTSTART;TZID=UTC:20241102T200000
DTEND;TZID=UTC:20241102T230000
DTSTAMP:20260423T214725
CREATED:20241008T213704Z
LAST-MODIFIED:20241008T213704Z
UID:2830-1730577600-1730588400@stcbluegrass.com
SUMMARY:Monk's BBQ
DESCRIPTION:
URL:https://stcbluegrass.com/event/monks-bbq-2/
LOCATION:Monk’s BBQ\, 251 N 21st St\, Purcellville\, VA\, 20132\, United States
END:VEVENT
BEGIN:VEVENT
DTSTART;TZID=UTC:20241027T120000
DTEND;TZID=UTC:20241027T150000
DTSTAMP:20260423T214725
CREATED:20241008T213630Z
LAST-MODIFIED:20241008T213630Z
UID:2827-1730030400-1730041200@stcbluegrass.com
SUMMARY:Antietam Pumpkins
DESCRIPTION:
URL:https://stcbluegrass.com/event/antietam-pumpkins/
LOCATION:Antietam Pumpkins\, 4410 Harpers Ferry Rd.\, Sharpsburg\, MD\, United States
END:VEVENT
BEGIN:VEVENT
DTSTART;TZID=UTC:20241026T130000
DTEND;TZID=UTC:20241026T160000
DTSTAMP:20260423T214725
CREATED:20241008T212754Z
LAST-MODIFIED:20241008T213443Z
UID:2825-1729947600-1729958400@stcbluegrass.com
SUMMARY:Lost Barrel Brewing
DESCRIPTION:
URL:https://stcbluegrass.com/event/lost-barrel-brewing-7/
LOCATION:Lost Barrel Brewing\, Middleburg\, VA
END:VEVENT
BEGIN:VEVENT
DTSTART;TZID=UTC:20241012T170000
DTEND;TZID=UTC:20241012T200000
DTSTAMP:20260423T214725
CREATED:20241008T212329Z
LAST-MODIFIED:20241008T212329Z
UID:2823-1728752400-1728763200@stcbluegrass.com
SUMMARY:Cedar Run Brewing
DESCRIPTION:
URL:https://stcbluegrass.com/event/cedar-run-brewing-3/
LOCATION:Cedar Run Brewing\, 12801 Hazelwood Drive\, Nokesville\, VA\, 20181\, United States
END:VEVENT
BEGIN:VEVENT
DTSTART;TZID=UTC:20241012T110000
DTEND;TZID=UTC:20241012T140000
DTSTAMP:20260423T214725
CREATED:20241008T212208Z
LAST-MODIFIED:20241008T212208Z
UID:2820-1728730800-1728741600@stcbluegrass.com
SUMMARY:Lucketts Fall Market
DESCRIPTION:
URL:https://stcbluegrass.com/event/lucketts-fall-market/
LOCATION:Clarke County Fairgrounds\, 890 W Main St.\, Berryville\, VA\, 22611\, United States
END:VEVENT
BEGIN:VEVENT
DTSTART;TZID=UTC:20240929T160000
DTEND;TZID=UTC:20240929T180000
DTSTAMP:20260423T214725
CREATED:20240728T230911Z
LAST-MODIFIED:20240824T164833Z
UID:2816-1727625600-1727632800@stcbluegrass.com
SUMMARY:St. Paul's Episcopal Church Artist Series
DESCRIPTION:
URL:https://stcbluegrass.com/event/st-pauls-episcopal-church-artist-series/
LOCATION:St. Paul’ Episcopal Church\, E Main St.\, Bloomsburg\, PA\, United States
END:VEVENT
BEGIN:VEVENT
DTSTART;TZID=UTC:20240928T140000
DTEND;TZID=UTC:20240928T150000
DTSTAMP:20260423T214725
CREATED:20240728T200904Z
LAST-MODIFIED:20240824T164855Z
UID:2809-1727532000-1727535600@stcbluegrass.com
SUMMARY:New Cumberland Apple Festival
DESCRIPTION:
URL:https://stcbluegrass.com/event/new-cumberland-apple-festival-2/
LOCATION:New Cumberland Borough Park\, 517 Front St.\, New Cumberland\, MD\, United States
END:VEVENT
END:VCALENDAR