BEGIN:VCALENDAR
VERSION:2.0
PRODID:-//STC Bluegrass - ECPv6.15.1.1//NONSGML v1.0//EN
CALSCALE:GREGORIAN
METHOD:PUBLISH
X-WR-CALNAME:STC Bluegrass
X-ORIGINAL-URL:https://stcbluegrass.com
X-WR-CALDESC:Events for STC Bluegrass
REFRESH-INTERVAL;VALUE=DURATION:PT1H
X-Robots-Tag:noindex
X-PUBLISHED-TTL:PT1H
BEGIN:VTIMEZONE
TZID:UTC
BEGIN:STANDARD
TZOFFSETFROM:+0000
TZOFFSETTO:+0000
TZNAME:UTC
DTSTART:20230101T000000
END:STANDARD
END:VTIMEZONE
BEGIN:VEVENT
DTSTART;TZID=UTC:20231201T190000
DTEND;TZID=UTC:20231201T210000
DTSTAMP:20260425T215139
CREATED:20231127T211743Z
LAST-MODIFIED:20231127T211743Z
UID:2695-1701457200-1701464400@stcbluegrass.com
SUMMARY:Liquidity Aleworks
DESCRIPTION:
URL:https://stcbluegrass.com/event/liquidity-aleworks/
LOCATION:Liquidity Aleworks\, 8 N Main St\, Mt Airy\, MD\, 21771\, United States
END:VEVENT
BEGIN:VEVENT
DTSTART;TZID=UTC:20231202T183000
DTEND;TZID=UTC:20231202T213000
DTSTAMP:20260425T215139
CREATED:20231011T211120Z
LAST-MODIFIED:20231107T131111Z
UID:2610-1701541800-1701552600@stcbluegrass.com
SUMMARY:Black Locust Farm Brewery
DESCRIPTION:
URL:https://stcbluegrass.com/event/black-locust-farm-brewery/
LOCATION:Black Locust Farm Brewery\, 21305 Heathcote Rd\,\, Freeland\, MD\, 21053\, United States
END:VEVENT
BEGIN:VEVENT
DTSTART;TZID=UTC:20231208T190000
DTEND;TZID=UTC:20231208T220000
DTSTAMP:20260425T215139
CREATED:20231107T125140Z
LAST-MODIFIED:20231107T125140Z
UID:2617-1702062000-1702072800@stcbluegrass.com
SUMMARY:Box Office Brewing
DESCRIPTION:
URL:https://stcbluegrass.com/event/box-office-brewing/
LOCATION:Box Office Brewing\, 177 E King St\, Strasburg\, VA\, 22657\, United States
END:VEVENT
BEGIN:VEVENT
DTSTART;TZID=UTC:20231215T183000
DTEND;TZID=UTC:20231215T213000
DTSTAMP:20260425T215139
CREATED:20231107T125349Z
LAST-MODIFIED:20231107T125349Z
UID:2620-1702665000-1702675800@stcbluegrass.com
SUMMARY:1812 Brewery
DESCRIPTION:
URL:https://stcbluegrass.com/event/1812-brewery/
LOCATION:1812 Brewery\, 13006 Mason Rd NE\, Cumberland\, MD\, United States
END:VEVENT
BEGIN:VEVENT
DTSTART;TZID=UTC:20231230T200000
DTEND;TZID=UTC:20231230T230000
DTSTAMP:20260425T215139
CREATED:20231107T125531Z
LAST-MODIFIED:20231107T125531Z
UID:2623-1703966400-1703977200@stcbluegrass.com
SUMMARY:Monk's BBQ
DESCRIPTION:
URL:https://stcbluegrass.com/event/monks-bbq/
LOCATION:Monk’s BBQ\, 251 N 21st St\, Purcellville\, VA\, 20132\, United States
END:VEVENT
BEGIN:VEVENT
DTSTART;TZID=UTC:20231231T190000
DTEND;TZID=UTC:20231231T210000
DTSTAMP:20260425T215139
CREATED:20231107T125734Z
LAST-MODIFIED:20231108T142340Z
UID:2626-1704049200-1704056400@stcbluegrass.com
SUMMARY:New Year's Eve at Morgan's Coffeehouse
DESCRIPTION:
URL:https://stcbluegrass.com/event/new-years-eve-at-morgan-run-coffeehouse/
LOCATION:Morgan’s Coffeehouse\, 6750 Woodbine Rd.\, Woodbine\, 6750\, United States
END:VEVENT
END:VCALENDAR