BEGIN:VCALENDAR
VERSION:2.0
PRODID:-//STC Bluegrass - ECPv6.15.1.1//NONSGML v1.0//EN
CALSCALE:GREGORIAN
METHOD:PUBLISH
X-ORIGINAL-URL:https://stcbluegrass.com
X-WR-CALDESC:Events for STC Bluegrass
REFRESH-INTERVAL;VALUE=DURATION:PT1H
X-Robots-Tag:noindex
X-PUBLISHED-TTL:PT1H
BEGIN:VTIMEZONE
TZID:UTC
BEGIN:STANDARD
TZOFFSETFROM:+0000
TZOFFSETTO:+0000
TZNAME:UTC
DTSTART:20240101T000000
END:STANDARD
END:VTIMEZONE
BEGIN:VEVENT
DTSTART;TZID=UTC:20240210T190000
DTEND;TZID=UTC:20240210T213000
DTSTAMP:20260425T181955
CREATED:20240108T174312Z
LAST-MODIFIED:20240131T230951Z
UID:2712-1707591600-1707600600@stcbluegrass.com
SUMMARY:Gearhouse Brewing - POSTPONED
DESCRIPTION:Postponed – come see us at Gearhouse on May 3
URL:https://stcbluegrass.com/event/gearhouse-brewing/
LOCATION:Gearhouse Brewing\, 253 Grant St.\, Chambersburg\, PA\, 17201\, United States
END:VEVENT
END:VCALENDAR