BEGIN:VCALENDAR
VERSION:2.0
PRODID:-//STC Bluegrass - ECPv6.15.1.1//NONSGML v1.0//EN
CALSCALE:GREGORIAN
METHOD:PUBLISH
X-ORIGINAL-URL:https://stcbluegrass.com
X-WR-CALDESC:Events for STC Bluegrass
REFRESH-INTERVAL;VALUE=DURATION:PT1H
X-Robots-Tag:noindex
X-PUBLISHED-TTL:PT1H
BEGIN:VTIMEZONE
TZID:UTC
BEGIN:STANDARD
TZOFFSETFROM:+0000
TZOFFSETTO:+0000
TZNAME:UTC
DTSTART:20240101T000000
END:STANDARD
END:VTIMEZONE
BEGIN:VEVENT
DTSTART;TZID=UTC:20240302T160000
DTEND;TZID=UTC:20240302T190000
DTSTAMP:20260425T163351
CREATED:20240108T174404Z
LAST-MODIFIED:20240220T050715Z
UID:2715-1709395200-1709406000@stcbluegrass.com
SUMMARY:Lost Barrel Brewing
DESCRIPTION:
URL:https://stcbluegrass.com/event/lost-barrel-brewing-2/
LOCATION:Lost Barrel Brewing\, Middleburg\, VA
END:VEVENT
BEGIN:VEVENT
DTSTART;TZID=UTC:20240309T170000
DTEND;TZID=UTC:20240309T200000
DTSTAMP:20260425T163351
CREATED:20240220T045858Z
LAST-MODIFIED:20240220T045906Z
UID:2722-1710003600-1710014400@stcbluegrass.com
SUMMARY:Cedar Run
DESCRIPTION:
URL:https://stcbluegrass.com/event/cedar-run/
LOCATION:Cedar Run Brewing\, 12801 Hazelwood Drive\, Nokesville\, VA\, 20181\, United States
END:VEVENT
BEGIN:VEVENT
DTSTART;TZID=UTC:20240316T183000
DTEND;TZID=UTC:20240316T213000
DTSTAMP:20260425T163351
CREATED:20240220T050102Z
LAST-MODIFIED:20240220T050102Z
UID:2725-1710613800-1710624600@stcbluegrass.com
SUMMARY:Black Locust Farm
DESCRIPTION:
URL:https://stcbluegrass.com/event/black-locust-farm/
LOCATION:Black Locust Farm Brewery\, 21305 Heathcote Rd\,\, Freeland\, MD\, 21053\, United States
END:VEVENT
BEGIN:VEVENT
DTSTART;TZID=UTC:20240324T080000
DTEND;TZID=UTC:20240324T170000
DTSTAMP:20260425T163351
CREATED:20240220T050316Z
LAST-MODIFIED:20240220T050326Z
UID:2727-1711267200-1711299600@stcbluegrass.com
SUMMARY:Vanish Brewing
DESCRIPTION:
URL:https://stcbluegrass.com/event/vanish-brewing/
LOCATION:Vanish Brewing\, 42245 Black Hops Lane\, Leesburg\, VA\, 20176\, United States
END:VEVENT
END:VCALENDAR