BEGIN:VCALENDAR
VERSION:2.0
PRODID:-//STC Bluegrass - ECPv6.15.1.1//NONSGML v1.0//EN
CALSCALE:GREGORIAN
METHOD:PUBLISH
X-ORIGINAL-URL:https://stcbluegrass.com
X-WR-CALDESC:Events for STC Bluegrass
REFRESH-INTERVAL;VALUE=DURATION:PT1H
X-Robots-Tag:noindex
X-PUBLISHED-TTL:PT1H
BEGIN:VTIMEZONE
TZID:UTC
BEGIN:STANDARD
TZOFFSETFROM:+0000
TZOFFSETTO:+0000
TZNAME:UTC
DTSTART:20240101T000000
END:STANDARD
END:VTIMEZONE
BEGIN:VEVENT
DTSTART;TZID=UTC:20240406T200000
DTEND;TZID=UTC:20240406T220000
DTSTAMP:20260425T145219
CREATED:20240324T123141Z
LAST-MODIFIED:20240324T123141Z
UID:2733-1712433600-1712440800@stcbluegrass.com
SUMMARY:Barn of Harpers Ferry
DESCRIPTION:
URL:https://stcbluegrass.com/event/barn-of-harpers-ferry/
LOCATION:Barn of Harpers ferry\, 062 W Washington Street\, Harpers Ferry\, WV\, 25425\, United States
END:VEVENT
BEGIN:VEVENT
DTSTART;TZID=UTC:20240413T183000
DTEND;TZID=UTC:20240413T213000
DTSTAMP:20260425T145219
CREATED:20240324T124047Z
LAST-MODIFIED:20240324T124937Z
UID:2736-1713033000-1713043800@stcbluegrass.com
SUMMARY:1812 Brewery
DESCRIPTION:
URL:https://stcbluegrass.com/event/1812-brewery-2/
LOCATION:1812 Brewery\, 13006 Mason Rd NE\, Cumberland\, MD\, United States
END:VEVENT
BEGIN:VEVENT
DTSTART;TZID=UTC:20240414T140000
DTEND;TZID=UTC:20240414T160000
DTSTAMP:20260425T145219
CREATED:20240324T125129Z
LAST-MODIFIED:20240324T125129Z
UID:2738-1713103200-1713110400@stcbluegrass.com
SUMMARY:Doc Waters Cidery
DESCRIPTION:
URL:https://stcbluegrass.com/event/doc-waters-cidery/
LOCATION:Doc Waters Cidery\, 22529 Wildcat Road\, Germantown\, MD\, 20876\, United States
END:VEVENT
BEGIN:VEVENT
DTSTART;TZID=UTC:20240419T180000
DTEND;TZID=UTC:20240419T210000
DTSTAMP:20260425T145219
CREATED:20240324T125228Z
LAST-MODIFIED:20240329T212536Z
UID:2741-1713549600-1713560400@stcbluegrass.com
SUMMARY:Morgan Chapel Coffeehouse
DESCRIPTION:
URL:https://stcbluegrass.com/event/morgan-chapel-coffeehouse/
LOCATION:Morgan’s Coffeehouse\, 6750 Woodbine Rd.\, Woodbine\, 6750\, United States
END:VEVENT
BEGIN:VEVENT
DTSTART;TZID=UTC:20240420T160000
DTEND;TZID=UTC:20240420T190000
DTSTAMP:20260425T145219
CREATED:20240324T125306Z
LAST-MODIFIED:20240324T125306Z
UID:2743-1713628800-1713639600@stcbluegrass.com
SUMMARY:Lost Barrel Brewing
DESCRIPTION:
URL:https://stcbluegrass.com/event/lost-barrel-brewing-3/
LOCATION:Lost Barrel Brewing\, Middleburg\, VA
END:VEVENT
BEGIN:VEVENT
DTSTART;TZID=UTC:20240427T170000
DTEND;TZID=UTC:20240427T200000
DTSTAMP:20260425T145219
CREATED:20240324T125345Z
LAST-MODIFIED:20240324T125345Z
UID:2745-1714237200-1714248000@stcbluegrass.com
SUMMARY:Cedar Run Brewing
DESCRIPTION:
URL:https://stcbluegrass.com/event/cedar-run-brewing/
LOCATION:Cedar Run Brewing\, 12801 Hazelwood Drive\, Nokesville\, VA\, 20181\, United States
END:VEVENT
END:VCALENDAR