BEGIN:VCALENDAR
VERSION:2.0
PRODID:-//STC Bluegrass - ECPv6.15.1.1//NONSGML v1.0//EN
CALSCALE:GREGORIAN
METHOD:PUBLISH
X-ORIGINAL-URL:https://stcbluegrass.com
X-WR-CALDESC:Events for STC Bluegrass
REFRESH-INTERVAL;VALUE=DURATION:PT1H
X-Robots-Tag:noindex
X-PUBLISHED-TTL:PT1H
BEGIN:VTIMEZONE
TZID:UTC
BEGIN:STANDARD
TZOFFSETFROM:+0000
TZOFFSETTO:+0000
TZNAME:UTC
DTSTART:20240101T000000
END:STANDARD
END:VTIMEZONE
BEGIN:VEVENT
DTSTART;TZID=UTC:20240601T170000
DTEND;TZID=UTC:20240601T200000
DTSTAMP:20260425T111336
CREATED:20240504T170511Z
LAST-MODIFIED:20240504T170511Z
UID:2757-1717261200-1717272000@stcbluegrass.com
SUMMARY:Lost Barrel Brewing
DESCRIPTION:
URL:https://stcbluegrass.com/event/lost-barrel-brewing-4/
LOCATION:Lost Barrel Brewing\, Middleburg\, VA
END:VEVENT
BEGIN:VEVENT
DTSTART;TZID=UTC:20240605T180000
DTEND;TZID=UTC:20240605T190000
DTSTAMP:20260425T111336
CREATED:20240507T205829Z
LAST-MODIFIED:20240507T205829Z
UID:2771-1717610400-1717614000@stcbluegrass.com
SUMMARY:Lovedrafts Brewing
DESCRIPTION:
URL:https://stcbluegrass.com/event/lovedrafts-brewing/
LOCATION:Lovedrafts Brewing\, 165 Gateway Dr.\, Mechanicsburg\, PA\, 17050\, United States
END:VEVENT
BEGIN:VEVENT
DTSTART;TZID=UTC:20240608T123000
DTEND;TZID=UTC:20240608T150000
DTSTAMP:20260425T111336
CREATED:20240504T170805Z
LAST-MODIFIED:20240504T170805Z
UID:2759-1717849800-1717858800@stcbluegrass.com
SUMMARY:Appalachian Trail Outdoor Fest
DESCRIPTION:
URL:https://stcbluegrass.com/event/appalachian-trail-outdoor-fest/
LOCATION:Red Run Park\, 12143 Buchanan Trail East\, Waynesboro\, PA\, United States
END:VEVENT
BEGIN:VEVENT
DTSTART;TZID=UTC:20240609T120000
DTEND;TZID=UTC:20240609T160000
DTSTAMP:20260425T111336
CREATED:20240504T171151Z
LAST-MODIFIED:20240504T171151Z
UID:2762-1717934400-1717948800@stcbluegrass.com
SUMMARY:Dirt Farm Brewing
DESCRIPTION:
URL:https://stcbluegrass.com/event/dirt-farm-brewing/
LOCATION:Dirt Farm Brewing\, 18701 Foggy Bottom Rd\, Bluemont\, VA\, United States
END:VEVENT
BEGIN:VEVENT
DTSTART;TZID=UTC:20240615T170000
DTEND;TZID=UTC:20240615T200000
DTSTAMP:20260425T111336
CREATED:20240504T171321Z
LAST-MODIFIED:20240504T171321Z
UID:2765-1718470800-1718481600@stcbluegrass.com
SUMMARY:Cedar Run Brewing
DESCRIPTION:
URL:https://stcbluegrass.com/event/cedar-run-brewing-2/
LOCATION:Cedar Run Brewing\, 12801 Hazelwood Drive\, Nokesville\, VA\, 20181\, United States
END:VEVENT
BEGIN:VEVENT
DTSTART;TZID=UTC:20240616T130000
DTEND;TZID=UTC:20240616T160000
DTSTAMP:20260425T111336
CREATED:20240504T171402Z
LAST-MODIFIED:20240504T171402Z
UID:2767-1718542800-1718553600@stcbluegrass.com
SUMMARY:Mount Defiance Cidery
DESCRIPTION:
URL:https://stcbluegrass.com/event/mount-defiance-cidery-2/
END:VEVENT
BEGIN:VEVENT
DTSTART;TZID=UTC:20240622T153000
DTEND;TZID=UTC:20240622T183000
DTSTAMP:20260425T111336
CREATED:20240507T210028Z
LAST-MODIFIED:20240507T210028Z
UID:2774-1719070200-1719081000@stcbluegrass.com
SUMMARY:Manor Hill Brewing
DESCRIPTION:
URL:https://stcbluegrass.com/event/manor-hill-brewing/
LOCATION:Manor Hill Brewing\, 4411 Manor Ln.\, Ellicott City\, MD\, 21042\, United States
END:VEVENT
BEGIN:VEVENT
DTSTART;TZID=UTC:20240628T190000
DTEND;TZID=UTC:20240628T213000
DTSTAMP:20260425T111336
CREATED:20240504T171813Z
LAST-MODIFIED:20240504T171830Z
UID:2769-1719601200-1719610200@stcbluegrass.com
SUMMARY:Gearhouse Brewing
DESCRIPTION:
URL:https://stcbluegrass.com/event/gearhouse-brewing-3/
LOCATION:Gearhouse Brewing\, 253 Grant St.\, Chambersburg\, PA\, 17201\, United States
END:VEVENT
BEGIN:VEVENT
DTSTART;TZID=UTC:20240629T100000
DTEND;TZID=UTC:20240629T133000
DTSTAMP:20260425T111336
CREATED:20240525T173906Z
LAST-MODIFIED:20240525T173906Z
UID:2786-1719655200-1719667800@stcbluegrass.com
SUMMARY:Brunswick Spring Fest
DESCRIPTION:
URL:https://stcbluegrass.com/event/brunswick-spring-fest/
LOCATION:Brunswick\, MD\, United States
END:VEVENT
END:VCALENDAR