BEGIN:VCALENDAR
VERSION:2.0
PRODID:-//STC Bluegrass - ECPv6.15.1.1//NONSGML v1.0//EN
CALSCALE:GREGORIAN
METHOD:PUBLISH
X-WR-CALNAME:STC Bluegrass
X-ORIGINAL-URL:https://stcbluegrass.com
X-WR-CALDESC:Events for STC Bluegrass
REFRESH-INTERVAL;VALUE=DURATION:PT1H
X-Robots-Tag:noindex
X-PUBLISHED-TTL:PT1H
BEGIN:VTIMEZONE
TZID:UTC
BEGIN:STANDARD
TZOFFSETFROM:+0000
TZOFFSETTO:+0000
TZNAME:UTC
DTSTART:20250101T000000
END:STANDARD
END:VTIMEZONE
BEGIN:VEVENT
DTSTART;TZID=UTC:20250301T200000
DTEND;TZID=UTC:20250301T230000
DTSTAMP:20260424T173335
CREATED:20250217T153317Z
LAST-MODIFIED:20250217T153317Z
UID:2883-1740859200-1740870000@stcbluegrass.com
SUMMARY:The Office Bar and Grill
DESCRIPTION:
URL:https://stcbluegrass.com/event/the-office-bar-and-grill/
LOCATION:The Office Bar and Grill\, 2801 Mountain Rd\, Pasadena\, MD\, 21122\, United States
END:VEVENT
BEGIN:VEVENT
DTSTART;TZID=UTC:20250302T190000
DTEND;TZID=UTC:20250302T230000
DTSTAMP:20260424T173335
CREATED:20250217T152533Z
LAST-MODIFIED:20250217T152533Z
UID:2876-1740942000-1740956400@stcbluegrass.com
SUMMARY:Songbyrd Music House
DESCRIPTION:With Dave Zelonka
URL:https://stcbluegrass.com/event/songbyrd-music-house/
LOCATION:Songbyrd Music House\, 540 Penn St NE20002\, USA\, Washington\, DC\, 20002\, United States
END:VEVENT
BEGIN:VEVENT
DTSTART;TZID=UTC:20250309T133000
DTEND;TZID=UTC:20250309T153000
DTSTAMP:20260424T173335
CREATED:20250116T223731Z
LAST-MODIFIED:20250116T223731Z
UID:2869-1741527000-1741534200@stcbluegrass.com
SUMMARY:Wehrly's Auction House
DESCRIPTION:
URL:https://stcbluegrass.com/event/wehrlys-auction-house/
LOCATION:Wehrly’s Auction House\, 4067 Snyder Rd.\, Glen Rock\, PA\, 17327\, United States
END:VEVENT
BEGIN:VEVENT
DTSTART;TZID=UTC:20250314T190000
DTEND;TZID=UTC:20250314T220000
DTSTAMP:20260424T173335
CREATED:20250217T153015Z
LAST-MODIFIED:20250217T153015Z
UID:2879-1741978800-1741989600@stcbluegrass.com
SUMMARY:Music in the Gap Winter Encore
DESCRIPTION:
URL:https://stcbluegrass.com/event/music-in-the-gap-winter-encore/
LOCATION:Hillsboro Old Stone School\, 37098 Charles Town Pike\, Hillsboro\, VA\, 20132\, United States
END:VEVENT
BEGIN:VEVENT
DTSTART;TZID=UTC:20250315T200000
DTEND;TZID=UTC:20250315T220000
DTSTAMP:20260424T173335
CREATED:20250116T223815Z
LAST-MODIFIED:20250116T223815Z
UID:2871-1742068800-1742076000@stcbluegrass.com
SUMMARY:Barn at Harpers Ferry
DESCRIPTION:
URL:https://stcbluegrass.com/event/barn-at-harpers-ferry/
LOCATION:Barn of Harpers ferry\, 062 W Washington Street\, Harpers Ferry\, WV\, 25425\, United States
END:VEVENT
END:VCALENDAR