BEGIN:VCALENDAR
VERSION:2.0
PRODID:-//STC Bluegrass - ECPv6.15.1.1//NONSGML v1.0//EN
CALSCALE:GREGORIAN
METHOD:PUBLISH
X-ORIGINAL-URL:https://stcbluegrass.com
X-WR-CALDESC:Events for STC Bluegrass
REFRESH-INTERVAL;VALUE=DURATION:PT1H
X-Robots-Tag:noindex
X-PUBLISHED-TTL:PT1H
BEGIN:VTIMEZONE
TZID:UTC
BEGIN:STANDARD
TZOFFSETFROM:+0000
TZOFFSETTO:+0000
TZNAME:UTC
DTSTART:20250101T000000
END:STANDARD
END:VTIMEZONE
BEGIN:VEVENT
DTSTART;TZID=UTC:20250703T183000
DTEND;TZID=UTC:20250703T210000
DTSTAMP:20260424T102128
CREATED:20250423T131412Z
LAST-MODIFIED:20250423T131412Z
UID:2918-1751567400-1751576400@stcbluegrass.com
SUMMARY:Renfrew Park
DESCRIPTION:
URL:https://stcbluegrass.com/event/renfrew-park-2/
LOCATION:Renfrew Park\, 1010 E Main St\, Waynesboro\, PA\, 17268\, United States
END:VEVENT
BEGIN:VEVENT
DTSTART;TZID=UTC:20250704T130000
DTEND;TZID=UTC:20250704T160000
DTSTAMP:20260424T102128
CREATED:20250423T131538Z
LAST-MODIFIED:20250423T131538Z
UID:2920-1751634000-1751644800@stcbluegrass.com
SUMMARY:Chilly Hollow Brewing
DESCRIPTION:
URL:https://stcbluegrass.com/event/chilly-hollow-brewing/
LOCATION:Chilly Hollow Brewing\, 669 Chilly Hollow Rd.\, Berryville\, VA\, United States
END:VEVENT
BEGIN:VEVENT
DTSTART;TZID=UTC:20250705T160000
DTEND;TZID=UTC:20250705T200000
DTSTAMP:20260424T102128
CREATED:20250423T131607Z
LAST-MODIFIED:20250423T131607Z
UID:2923-1751731200-1751745600@stcbluegrass.com
SUMMARY:Lost Barrel
DESCRIPTION:
URL:https://stcbluegrass.com/event/lost-barrel-2/
LOCATION:Lost Barrel Brewing\, Middleburg\, VA
END:VEVENT
BEGIN:VEVENT
DTSTART;TZID=UTC:20250727T200000
DTEND;TZID=UTC:20250727T230000
DTSTAMP:20260424T102128
CREATED:20250423T130839Z
LAST-MODIFIED:20250423T130839Z
UID:2911-1753646400-1753657200@stcbluegrass.com
SUMMARY:Monk's BBQ
DESCRIPTION:
URL:https://stcbluegrass.com/event/monks-bbq-4/
LOCATION:Monk’s BBQ\, 251 N 21st St\, Purcellville\, VA\, 20132\, United States
END:VEVENT
END:VCALENDAR